BEGIN:VCALENDAR
VERSION:2.0
PRODID:-//Paroisse Saint-François de Sales - ECPv6.15.20//NONSGML v1.0//EN
CALSCALE:GREGORIAN
METHOD:PUBLISH
X-WR-CALNAME:Paroisse Saint-François de Sales
X-ORIGINAL-URL:https://stfrancois-ge.ch
X-WR-CALDESC:Évènements pour Paroisse Saint-François de Sales
REFRESH-INTERVAL;VALUE=DURATION:PT1H
X-Robots-Tag:noindex
X-PUBLISHED-TTL:PT1H
BEGIN:VTIMEZONE
TZID:Europe/Paris
BEGIN:DAYLIGHT
TZOFFSETFROM:+0100
TZOFFSETTO:+0200
TZNAME:CEST
DTSTART:20250330T010000
END:DAYLIGHT
BEGIN:STANDARD
TZOFFSETFROM:+0200
TZOFFSETTO:+0100
TZNAME:CET
DTSTART:20251026T010000
END:STANDARD
BEGIN:DAYLIGHT
TZOFFSETFROM:+0100
TZOFFSETTO:+0200
TZNAME:CEST
DTSTART:20260329T010000
END:DAYLIGHT
BEGIN:STANDARD
TZOFFSETFROM:+0200
TZOFFSETTO:+0100
TZNAME:CET
DTSTART:20261025T010000
END:STANDARD
BEGIN:DAYLIGHT
TZOFFSETFROM:+0100
TZOFFSETTO:+0200
TZNAME:CEST
DTSTART:20270328T010000
END:DAYLIGHT
BEGIN:STANDARD
TZOFFSETFROM:+0200
TZOFFSETTO:+0100
TZNAME:CET
DTSTART:20271031T010000
END:STANDARD
END:VTIMEZONE
BEGIN:VEVENT
DTSTART;TZID=Europe/Paris:20260423T200000
DTEND;TZID=Europe/Paris:20260423T220000
DTSTAMP:20260423T054011
CREATED:20260317T152433Z
LAST-MODIFIED:20260326T133416Z
UID:38315-1776974400-1776981600@stfrancois-ge.ch
SUMMARY:Conférence
DESCRIPTION:Conférence du père Jean Bosco sur le thème : « De la joie à la gratitude : itinéraire et repères »
URL:https://stfrancois-ge.ch/event/conference-2/
CATEGORIES:Calendrier,Events
ATTACH;FMTTYPE=image/jpeg:https://stfrancois-ge.ch/wp-content/uploads/2025/08/CONFERENCES-1024x576px.jpg
END:VEVENT
END:VCALENDAR