BEGIN:VCALENDAR
VERSION:2.0
PRODID:-//Paroisse Saint-François de Sales - ECPv6.15.20//NONSGML v1.0//EN
CALSCALE:GREGORIAN
METHOD:PUBLISH
X-WR-CALNAME:Paroisse Saint-François de Sales
X-ORIGINAL-URL:https://stfrancois-ge.ch
X-WR-CALDESC:Évènements pour Paroisse Saint-François de Sales
REFRESH-INTERVAL;VALUE=DURATION:PT1H
X-Robots-Tag:noindex
X-PUBLISHED-TTL:PT1H
BEGIN:VTIMEZONE
TZID:Europe/Paris
BEGIN:DAYLIGHT
TZOFFSETFROM:+0100
TZOFFSETTO:+0200
TZNAME:CEST
DTSTART:20250330T010000
END:DAYLIGHT
BEGIN:STANDARD
TZOFFSETFROM:+0200
TZOFFSETTO:+0100
TZNAME:CET
DTSTART:20251026T010000
END:STANDARD
BEGIN:DAYLIGHT
TZOFFSETFROM:+0100
TZOFFSETTO:+0200
TZNAME:CEST
DTSTART:20260329T010000
END:DAYLIGHT
BEGIN:STANDARD
TZOFFSETFROM:+0200
TZOFFSETTO:+0100
TZNAME:CET
DTSTART:20261025T010000
END:STANDARD
BEGIN:DAYLIGHT
TZOFFSETFROM:+0100
TZOFFSETTO:+0200
TZNAME:CEST
DTSTART:20270328T010000
END:DAYLIGHT
BEGIN:STANDARD
TZOFFSETFROM:+0200
TZOFFSETTO:+0100
TZNAME:CET
DTSTART:20271031T010000
END:STANDARD
END:VTIMEZONE
BEGIN:VEVENT
DTSTART;TZID=Europe/Paris:20260422T193000
DTEND;TZID=Europe/Paris:20260422T210000
DTSTAMP:20260422T191240
CREATED:20260317T143347Z
LAST-MODIFIED:20260326T133508Z
UID:38512-1776886200-1776891600@stfrancois-ge.ch
SUMMARY:Catéchisme pour adultes
DESCRIPTION:Intervenant : Père Jean Bosco \nThème : Les sacrements \nObjectif : Découvrir les sept sacrements comme signes efficaces de la grâce de Dieu. comprendre leur importance dans la vie du chrétien. Comprendre en quel sens l’eucharistie est « source et Sommet de la Vie chrétienne » \nContenu : Baptême\, Confirmation\, Eucharistie\, Réconciliation\, Mariage\, Ordre\, Onction des Malades. \nAbrégé du Catéchisme de l’Église Catholique : n°1066-1690
URL:https://stfrancois-ge.ch/event/catechisme-pour-adultes-22/
CATEGORIES:Calendrier,Events
ATTACH;FMTTYPE=image/jpeg:https://stfrancois-ge.ch/wp-content/uploads/2024/08/Banner-web-Catechisme_Adulte.jpg
END:VEVENT
END:VCALENDAR