BEGIN:VCALENDAR
VERSION:2.0
PRODID:-//Paroisse Saint-François de Sales - ECPv6.15.20//NONSGML v1.0//EN
CALSCALE:GREGORIAN
METHOD:PUBLISH
X-WR-CALNAME:Paroisse Saint-François de Sales
X-ORIGINAL-URL:https://stfrancois-ge.ch
X-WR-CALDESC:Évènements pour Paroisse Saint-François de Sales
REFRESH-INTERVAL;VALUE=DURATION:PT1H
X-Robots-Tag:noindex
X-PUBLISHED-TTL:PT1H
BEGIN:VTIMEZONE
TZID:Europe/Paris
BEGIN:DAYLIGHT
TZOFFSETFROM:+0100
TZOFFSETTO:+0200
TZNAME:CEST
DTSTART:20240331T010000
END:DAYLIGHT
BEGIN:STANDARD
TZOFFSETFROM:+0200
TZOFFSETTO:+0100
TZNAME:CET
DTSTART:20241027T010000
END:STANDARD
BEGIN:DAYLIGHT
TZOFFSETFROM:+0100
TZOFFSETTO:+0200
TZNAME:CEST
DTSTART:20250330T010000
END:DAYLIGHT
BEGIN:STANDARD
TZOFFSETFROM:+0200
TZOFFSETTO:+0100
TZNAME:CET
DTSTART:20251026T010000
END:STANDARD
BEGIN:DAYLIGHT
TZOFFSETFROM:+0100
TZOFFSETTO:+0200
TZNAME:CEST
DTSTART:20260329T010000
END:DAYLIGHT
BEGIN:STANDARD
TZOFFSETFROM:+0200
TZOFFSETTO:+0100
TZNAME:CET
DTSTART:20261025T010000
END:STANDARD
END:VTIMEZONE
BEGIN:VEVENT
DTSTART;TZID=Europe/Paris:20250312T200000
DTEND;TZID=Europe/Paris:20250312T220000
DTSTAMP:20260423T214100
CREATED:20250210T162928Z
LAST-MODIFIED:20250220T111901Z
UID:36766-1741809600-1741816800@stfrancois-ge.ch
SUMMARY:Parcours Résurrection
DESCRIPTION:Cinquième soirée du parcours sur le thème : Du doute à la certitude \n\n	\n\n\nVous souhaitez écouter ou réécouter le topo de la dernière rencontre ? Le voici !\nhttps://stfrancois-ge.ch/wp-content/uploads/2025/02/Thomas-19.02.2025.mp3
URL:https://stfrancois-ge.ch/event/parcours-biblique-14/
CATEGORIES:Calendrier,Events
ATTACH;FMTTYPE=image/jpeg:https://stfrancois-ge.ch/wp-content/uploads/2024/11/Banner-web-Parcours-Resurrection.jpg
END:VEVENT
END:VCALENDAR